BEGIN:VCALENDAR
VERSION:2.0
PRODID:-//Plone.org//NONSGML plone.app.event//EN
X-WR-TIMEZONE:Europe/Zurich
BEGIN:VEVENT
SUMMARY:Aufnahmeprüfung «Eintritt 3. Klasse - Schuljahr 2021/22»: 1. Ta
 g
DTSTART;VALUE=DATE-TIME:20210315T074500Z
DTEND;VALUE=DATE-TIME:20210315T141500Z
DTSTAMP;VALUE=DATE-TIME:20260424T005604Z
UID:3e153fec376048f882482833c075f6da@127.0.0.1:10150
CREATED;VALUE=DATE-TIME:20201104T082153Z
LAST-MODIFIED;VALUE=DATE-TIME:20210211T094011Z
URL:https://gymnasium.ai.ch/nuetzliches/termine/aufnahmepruefung-eintritt-
 3-klasse-schuljahr-2021-22-1-tag
END:VEVENT
END:VCALENDAR
