BEGIN:VCALENDAR
VERSION:2.0
PRODID:-//Plone.org//NONSGML plone.app.event//EN
X-WR-TIMEZONE:Europe/Zurich
BEGIN:VEVENT
SUMMARY:Aufnahmeprüfung «Eintritt 3. Klasse - Schuljahr 2021/22»: 2. Ta
 g
DTSTART;VALUE=DATE-TIME:20210316T071000Z
DTEND;VALUE=DATE-TIME:20210316T152000Z
DTSTAMP;VALUE=DATE-TIME:20260423T231821Z
UID:9471f34d17794ea58a75485113ee3e8a@127.0.0.1:10150
CREATED;VALUE=DATE-TIME:20201104T082338Z
LAST-MODIFIED;VALUE=DATE-TIME:20210316T144204Z
URL:https://gymnasium.ai.ch/nuetzliches/termine/aufnahmepruefung-eintritt-
 3-klasse-schuljahr-2021-22-2-tag
END:VEVENT
END:VCALENDAR
