BEGIN:VCALENDAR
VERSION:2.0
PRODID:-//Plone.org//NONSGML plone.app.event//EN
X-WR-TIMEZONE:Europe/Zurich
BEGIN:VEVENT
SUMMARY:Aufnahmeprüfung Eintritt 3. Klasse: 1. Tag
DTSTART;VALUE=DATE:20230313
DTEND;VALUE=DATE:20230314
DTSTAMP;VALUE=DATE-TIME:20260424T005604Z
UID:48699fc20a9a4f8fbab2cf83fdb3c9d4@127.0.0.1:6081
CREATED;VALUE=DATE-TIME:20221012T185823Z
LAST-MODIFIED;VALUE=DATE-TIME:20221012T185950Z
URL:https://gymnasium.ai.ch/nuetzliches/termine/aufnahmepruefung-eintritt-
 3-klasse-schuljahr-2023-24-1-tag
END:VEVENT
END:VCALENDAR
