BEGIN:VCALENDAR
VERSION:2.0
PRODID:-//Plone.org//NONSGML plone.app.event//EN
X-WR-TIMEZONE:Europe/Zurich
BEGIN:VEVENT
SUMMARY:Ausstellung der Begabungsförderung (4. Klassen)
DTSTART;VALUE=DATE-TIME:20220310T151500Z
DTEND;VALUE=DATE-TIME:20220310T183000Z
DTSTAMP;VALUE=DATE-TIME:20260424T020645Z
UID:d1d36acef63543af98734c4fc6b022b9@127.0.0.1:10150
CREATED;VALUE=DATE-TIME:20211207T193303Z
LAST-MODIFIED;VALUE=DATE-TIME:20211207T193307Z
URL:https://gymnasium.ai.ch/nuetzliches/termine/ausstellung-der-begabungsf
 oerderung-4-klassen
END:VEVENT
END:VCALENDAR
