BEGIN:VCALENDAR
VERSION:2.0
PRODID:-//Plone.org//NONSGML plone.app.event//EN
X-WR-TIMEZONE:Europe/Zurich
BEGIN:VEVENT
SUMMARY:Ausstellung der Projekte der Begabungsförderung (4. Klassen)
DTSTART;VALUE=DATE-TIME:20220609T141500Z
DTEND;VALUE=DATE-TIME:20220609T173000Z
DTSTAMP;VALUE=DATE-TIME:20260424T004911Z
UID:61900bc321874d5baf4a70ef934bd88f@127.0.0.1:10150
CREATED;VALUE=DATE-TIME:20220608T134038Z
LAST-MODIFIED;VALUE=DATE-TIME:20220608T134957Z
URL:https://gymnasium.ai.ch/nuetzliches/termine/ausstellung-der-projekte-d
 er-begabungsfoerderung
END:VEVENT
END:VCALENDAR
