BEGIN:VCALENDAR
VERSION:2.0
PRODID:-//Plone.org//NONSGML plone.app.event//EN
X-WR-TIMEZONE:Europe/Zurich
BEGIN:VEVENT
SUMMARY:Ausstellung «Helvetismen - Sprachspezialitäten»
DTSTART;VALUE=DATE:20211114
DTEND;VALUE=DATE:20211218
DTSTAMP;VALUE=DATE-TIME:20260423T231815Z
UID:58b98607c02a428e88df84699fcd5a44@127.0.0.1:10150
CREATED;VALUE=DATE-TIME:20210427T144337Z
LAST-MODIFIED;VALUE=DATE-TIME:20211124T075930Z
URL:https://gymnasium.ai.ch/nuetzliches/termine/ausstellung-helvetismen-sp
 rachspezialitaeten
END:VEVENT
END:VCALENDAR
