BEGIN:VCALENDAR
VERSION:2.0
PRODID:-//Plone.org//NONSGML plone.app.event//EN
X-WR-TIMEZONE:Europe/Zurich
BEGIN:VEVENT
SUMMARY:Begabungsförderung (3. Klassen): Abgabe Interessenblätter an das
  Sekretariat bis 12 Uhr
DTSTART;VALUE=DATE:20240529
DTEND;VALUE=DATE:20240530
DTSTAMP;VALUE=DATE-TIME:20260424T005706Z
UID:362968081c894f138e1ba91cf4d918a8@127.0.0.1:6081
CREATED;VALUE=DATE-TIME:20240419T092028Z
LAST-MODIFIED;VALUE=DATE-TIME:20240419T092037Z
URL:https://gymnasium.ai.ch/nuetzliches/termine/begabungsfoerderung-3-klas
 sen-abgabe-interessenblaetter-an-das-sekretariat-bis-12-uhr
END:VEVENT
END:VCALENDAR
