BEGIN:VCALENDAR
VERSION:2.0
PRODID:-//Plone.org//NONSGML plone.app.event//EN
X-WR-TIMEZONE:Europe/Zurich
BEGIN:VEVENT
SUMMARY:Begabungsförderung (3. Klassen): Abgabe Interessenblätter an das
  Sekretariat
DTSTART;VALUE=DATE-TIME:20210526T100000Z
DTEND;VALUE=DATE-TIME:20210526T100000Z
DTSTAMP;VALUE=DATE-TIME:20260423T231816Z
UID:de1eb59c07b7428d88a440de4fbbdd40@127.0.0.1:10150
CREATED;VALUE=DATE-TIME:20210417T203000Z
LAST-MODIFIED;VALUE=DATE-TIME:20210417T203004Z
URL:https://gymnasium.ai.ch/nuetzliches/termine/begabungsfoerderung-3-klas
 sen-abgabe-interessenblaetter-an-das-sekretariat
END:VEVENT
END:VCALENDAR
