BEGIN:VCALENDAR
VERSION:2.0
PRODID:-//Plone.org//NONSGML plone.app.event//EN
X-WR-TIMEZONE:Europe/Zurich
BEGIN:VEVENT
SUMMARY:Begabungsförderung (4. Gym): Ausstellung der Produktarbeiten
DTSTART;VALUE=DATE-TIME:20191219T151500Z
DTEND;VALUE=DATE-TIME:20191219T183000Z
DTSTAMP;VALUE=DATE-TIME:20260423T231816Z
UID:1163a8f1edb248649252614e1d720a1d@127.0.0.1:10150
CREATED;VALUE=DATE-TIME:20191210T131526Z
LAST-MODIFIED;VALUE=DATE-TIME:20191210T131532Z
LOCATION:Foyer Gymnasium St. Antonius
URL:https://gymnasium.ai.ch/nuetzliches/termine/begabungsfoerderung-4-gym-
 ausstellung-der-produktarbeiten-1
END:VEVENT
END:VCALENDAR
