BEGIN:VCALENDAR
VERSION:2.0
PRODID:-//Plone.org//NONSGML plone.app.event//EN
X-WR-TIMEZONE:Europe/Zurich
BEGIN:VEVENT
SUMMARY:Begabungsförderung (4. Gym): Ausstellung der Produktarbeiten
DTSTART;VALUE=DATE-TIME:20181220T151500Z
DTEND;VALUE=DATE-TIME:20181220T183000Z
DTSTAMP;VALUE=DATE-TIME:20260423T231817Z
UID:e06cae450fff4c2899081788d865027d@127.0.0.1:10150
CREATED;VALUE=DATE-TIME:20180928T122624Z
LAST-MODIFIED;VALUE=DATE-TIME:20180928T150943Z
LOCATION:Foyer
URL:https://gymnasium.ai.ch/nuetzliches/termine/begabungsfoerderung-4-gym-
 ausstellung-der-produktarbeiten
END:VEVENT
END:VCALENDAR
