BEGIN:VCALENDAR
VERSION:2.0
PRODID:-//Plone.org//NONSGML plone.app.event//EN
X-WR-TIMEZONE:Europe/Zurich
BEGIN:VEVENT
SUMMARY:Begabungsförderung (4. Klassen): Ausstellung der Produktarbeiten 
 1. Semester
DTSTART;TZID=Europe/Zurich;VALUE=DATE-TIME:20231220T160000
DTEND;TZID=Europe/Zurich;VALUE=DATE-TIME:20231220T193000
DTSTAMP;VALUE=DATE-TIME:20260423T231922Z
UID:c713071d2b2e4038842b144d76df6b3d@127.0.0.1:6081
CREATED;VALUE=DATE-TIME:20231201T074007Z
LAST-MODIFIED;VALUE=DATE-TIME:20231201T074012Z
URL:https://gymnasium.ai.ch/nuetzliches/termine/begabungsfoerderung-4-klas
 sen-ausstellung-der-produktarbeiten-1-semester-1
END:VEVENT
BEGIN:VTIMEZONE
TZID:Europe/Zurich
X-LIC-LOCATION:Europe/Zurich
BEGIN:STANDARD
DTSTART;VALUE=DATE-TIME:20231029T020000
TZNAME:CET
TZOFFSETFROM:+0200
TZOFFSETTO:+0100
END:STANDARD
END:VTIMEZONE
END:VCALENDAR
