BEGIN:VCALENDAR
VERSION:2.0
PRODID:-//Plone.org//NONSGML plone.app.event//EN
X-WR-TIMEZONE:Europe/Zurich
BEGIN:VEVENT
SUMMARY:Begabungsförderung (4. Klassen): Ausstellung der Produktarbeiten 
 1. Semester (16.15 –19.30 Uhr)
DTSTART;VALUE=DATE:20251217
DTEND;VALUE=DATE:20251218
DTSTAMP;VALUE=DATE-TIME:20260424T005905Z
UID:6de1493d841f4d3893734417cf3f4c0e@127.0.0.1:6081
CREATED;VALUE=DATE-TIME:20250719T204906Z
LAST-MODIFIED;VALUE=DATE-TIME:20250719T204919Z
URL:https://gymnasium.ai.ch/nuetzliches/termine/begabungsfoerderung-4-klas
 sen-ausstellung-der-produktarbeiten-1-semester-16-15-19-30-uhr-1
END:VEVENT
END:VCALENDAR
