BEGIN:VCALENDAR
VERSION:2.0
PRODID:-//Plone.org//NONSGML plone.app.event//EN
X-WR-TIMEZONE:Europe/Zurich
BEGIN:VEVENT
SUMMARY:Begabungsförderung (4. Klassen): Ausstellung der Produktarbeiten 
 1. Semester (16.15-19.30 Uhr)
DTSTART;VALUE=DATE:20241218
DTEND;VALUE=DATE:20241219
DTSTAMP;VALUE=DATE-TIME:20260424T005905Z
UID:1e181f493230475ca67dfc5aad1b892c@127.0.0.1:6081
CREATED;VALUE=DATE-TIME:20240703T202112Z
LAST-MODIFIED;VALUE=DATE-TIME:20240703T202116Z
URL:https://gymnasium.ai.ch/nuetzliches/termine/begabungsfoerderung-4-klas
 sen-ausstellung-der-produktarbeiten-1-semester-16-15-19-30-uhr
END:VEVENT
END:VCALENDAR
