BEGIN:VCALENDAR
VERSION:2.0
PRODID:-//Plone.org//NONSGML plone.app.event//EN
X-WR-TIMEZONE:Europe/Zurich
BEGIN:VEVENT
SUMMARY:Begabungsförderung (4. Klassen): Ausstellung der Produktarbeiten 
 (16.15 - 18.30 Uhr)\, Best Practice (18.30 Uhr)
DTSTART;VALUE=DATE:20250611
DTEND;VALUE=DATE:20250612
DTSTAMP;VALUE=DATE-TIME:20260424T005824Z
UID:9155d776431d44429c66bed205cf87ef@127.0.0.1:6081
CREATED;VALUE=DATE-TIME:20250611T142347Z
LAST-MODIFIED;VALUE=DATE-TIME:20250611T142818Z
URL:https://gymnasium.ai.ch/nuetzliches/termine/begabungsfoerderung-4-klas
 sen-ausstellung-der-produktarbeiten-16-15-18-30-uhr
END:VEVENT
END:VCALENDAR
