BEGIN:VCALENDAR
VERSION:2.0
PRODID:-//Plone.org//NONSGML plone.app.event//EN
X-WR-TIMEZONE:Europe/Zurich
BEGIN:VEVENT
SUMMARY:Begabungsförderung - 4. Klassen: Ausstellung der Produktarbeiten\
 , Best Practice
DTSTART;TZID=Europe/Vienna;VALUE=DATE-TIME:20230607T160000
DTEND;TZID=Europe/Vienna;VALUE=DATE-TIME:20230607T183000
DTSTAMP;VALUE=DATE-TIME:20260423T231817Z
UID:b8d3d451f343430cb071325919e2d4d9@127.0.0.1:6081
CREATED;VALUE=DATE-TIME:20230423T143507Z
LAST-MODIFIED;VALUE=DATE-TIME:20230423T143514Z
URL:https://gymnasium.ai.ch/nuetzliches/termine/begabungsfoerderung-4-klas
 sen-ausstellung-der-produktarbeiten-best-practice
END:VEVENT
BEGIN:VTIMEZONE
TZID:Europe/Vienna
X-LIC-LOCATION:Europe/Vienna
BEGIN:DAYLIGHT
DTSTART;VALUE=DATE-TIME:20230326T030000
TZNAME:CEST
TZOFFSETFROM:+0100
TZOFFSETTO:+0200
END:DAYLIGHT
END:VTIMEZONE
END:VCALENDAR
