BEGIN:VCALENDAR
VERSION:2.0
PRODID:-//Plone.org//NONSGML plone.app.event//EN
X-WR-TIMEZONE:Europe/Zurich
BEGIN:VEVENT
SUMMARY:Ausstellung der Begabungsförderung (4. Klassen): Verschoben auf 1
 0.03.2022.
DTSTART;VALUE=DATE-TIME:20211209T151500Z
DTEND;VALUE=DATE-TIME:20211209T183000Z
DTSTAMP;VALUE=DATE-TIME:20260423T231921Z
UID:0b383fcad2ab4e1198b5e2014950be66@127.0.0.1:10150
CREATED;VALUE=DATE-TIME:20211207T191841Z
LAST-MODIFIED;VALUE=DATE-TIME:20211207T193058Z
URL:https://gymnasium.ai.ch/nuetzliches/termine/begabungsfoerderung-4-klas
 sen-ausstellung-der-produktarbeiten-verschoben-auf
END:VEVENT
END:VCALENDAR
