BEGIN:VCALENDAR
VERSION:2.0
PRODID:-//Plone.org//NONSGML plone.app.event//EN
X-WR-TIMEZONE:Europe/Zurich
BEGIN:VEVENT
SUMMARY:Begabungsförderung - 4. Klassen: Nomination Best-Practice
DTSTART;VALUE=DATE-TIME:20210526T091000Z
DTEND;VALUE=DATE-TIME:20210526T095500Z
DTSTAMP;VALUE=DATE-TIME:20260424T004731Z
UID:93619f56b2c544c5bfce485a75bb0fc0@127.0.0.1:10150
CREATED;VALUE=DATE-TIME:20210417T202648Z
LAST-MODIFIED;VALUE=DATE-TIME:20210417T202653Z
URL:https://gymnasium.ai.ch/nuetzliches/termine/begabungsfoerderung-4-klas
 sen-nomination-best-practice
END:VEVENT
END:VCALENDAR
