BEGIN:VCALENDAR
VERSION:2.0
PRODID:-//Plone.org//NONSGML plone.app.event//EN
X-WR-TIMEZONE:Europe/Zurich
BEGIN:VEVENT
SUMMARY:Begabungsförderung Betreuertreff
DTSTART;VALUE=DATE-TIME:20210826T151500Z
DTEND;VALUE=DATE-TIME:20210826T161500Z
DTSTAMP;VALUE=DATE-TIME:20260423T231654Z
UID:82afca1e83044d4b88899178516b2053@127.0.0.1:10150
CREATED;VALUE=DATE-TIME:20210817T065941Z
LAST-MODIFIED;VALUE=DATE-TIME:20210817T065944Z
URL:https://gymnasium.ai.ch/nuetzliches/termine/begabungsfoerderung-betreu
 ertreff
END:VEVENT
END:VCALENDAR
