BEGIN:VCALENDAR
VERSION:2.0
PRODID:-//Plone.org//NONSGML plone.app.event//EN
X-WR-TIMEZONE:Europe/Zurich
BEGIN:VEVENT
SUMMARY:Begabungsförderung
DTSTART;VALUE=DATE:20180114
DTEND;VALUE=DATE:20180127
DTSTAMP;VALUE=DATE-TIME:20260423T231339Z
UID:a2347deae4ee42579dfb3673a5b02ebf@127.0.0.1:10150
CREATED;VALUE=DATE-TIME:20180109T140242Z
DESCRIPTION:Begabungsförderung (4.Klasse): Kleingruppenpräsentation 1\, 
 Zeit gemäss Gruppenleitung
LAST-MODIFIED;VALUE=DATE-TIME:20180109T140445Z
URL:https://gymnasium.ai.ch/nuetzliches/termine/begabungsfoerderung
END:VEVENT
END:VCALENDAR
