BEGIN:VCALENDAR
VERSION:2.0
PRODID:-//Plone.org//NONSGML plone.app.event//EN
X-WR-TIMEZONE:Europe/Zurich
BEGIN:VEVENT
SUMMARY:Beginn Schuljahr 2018/19 (1. Semester)
DTSTART;VALUE=DATE:20180812
DTEND;VALUE=DATE:20180814
DTSTAMP;VALUE=DATE-TIME:20260423T231620Z
UID:2b3a847050f4456d9160c84659e6998c@127.0.0.1:10150
CREATED;VALUE=DATE-TIME:20180307T100200Z
LAST-MODIFIED;VALUE=DATE-TIME:20180928T123639Z
URL:https://gymnasium.ai.ch/nuetzliches/termine/beginn-schuljahr-2018-19-1
 -semester
END:VEVENT
END:VCALENDAR
