BEGIN:VCALENDAR
VERSION:2.0
PRODID:-//Plone.org//NONSGML plone.app.event//EN
X-WR-TIMEZONE:Europe/Zurich
BEGIN:VEVENT
SUMMARY:Beginn Schuljahr 2019/20 (1. Semester)
DTSTART;VALUE=DATE:20190811
DTEND;VALUE=DATE:20190813
DTSTAMP;VALUE=DATE-TIME:20260423T231617Z
UID:3aa4d111bbfd4bc39febe377d399be07@127.0.0.1:10150
CREATED;VALUE=DATE-TIME:20190707T111855Z
LAST-MODIFIED;VALUE=DATE-TIME:20190707T111901Z
URL:https://gymnasium.ai.ch/nuetzliches/termine/beginn-schuljahr-2019-20-1
 -semester
END:VEVENT
END:VCALENDAR
