BEGIN:VCALENDAR
VERSION:2.0
PRODID:-//Plone.org//NONSGML plone.app.event//EN
X-WR-TIMEZONE:Europe/Zurich
BEGIN:VEVENT
SUMMARY:Beginn Schuljahr 2020/21 (1. Semester)
DTSTART;VALUE=DATE:20200816
DTEND;VALUE=DATE:20200818
DTSTAMP;VALUE=DATE-TIME:20260423T231616Z
UID:3838064d02a84b4896dedafea618c82d@127.0.0.1:10150
CREATED;VALUE=DATE-TIME:20200526T120316Z
LAST-MODIFIED;VALUE=DATE-TIME:20200526T120323Z
URL:https://gymnasium.ai.ch/nuetzliches/termine/beginn-schuljahr-2020-21-1
 -semester
END:VEVENT
END:VCALENDAR
