BEGIN:VCALENDAR
VERSION:2.0
PRODID:-//Plone.org//NONSGML plone.app.event//EN
X-WR-TIMEZONE:Europe/Zurich
BEGIN:VEVENT
SUMMARY:Besammlung der Schülerschaft (2.–6. Klassen) im jeweiligen Klas
 senzimmer
DTSTART;VALUE=DATE-TIME:20210816T064500Z
DTEND;VALUE=DATE-TIME:20210816T064500Z
DTSTAMP;VALUE=DATE-TIME:20260424T005829Z
UID:16665267c8ba41708d9523a4851d347c@127.0.0.1:10150
CREATED;VALUE=DATE-TIME:20210417T153631Z
LAST-MODIFIED;VALUE=DATE-TIME:20210417T184207Z
URL:https://gymnasium.ai.ch/nuetzliches/termine/beginn-schuljahr-2021-22-1
 -semester-besammlung-der-schuelerschaft-2-6-klasse-im-jeweiligen-klassenzi
 mmer
END:VEVENT
END:VCALENDAR
