BEGIN:VCALENDAR
VERSION:2.0
PRODID:-//Plone.org//NONSGML plone.app.event//EN
X-WR-TIMEZONE:Europe/Zurich
BEGIN:VEVENT
SUMMARY:Beginn Schuljahr 2021/22 (1. Semester)
DTSTART;VALUE=DATE:20210815
DTEND;VALUE=DATE:20210817
DTSTAMP;VALUE=DATE-TIME:20260424T004824Z
UID:2e0d9b046513482abf1b1453dd645bc7@127.0.0.1:10150
CREATED;VALUE=DATE-TIME:20210417T153320Z
LAST-MODIFIED;VALUE=DATE-TIME:20210417T183021Z
URL:https://gymnasium.ai.ch/nuetzliches/termine/beginn-schuljahr-2021-22-1
 -semester
END:VEVENT
END:VCALENDAR
