BEGIN:VCALENDAR
VERSION:2.0
PRODID:-//Plone.org//NONSGML plone.app.event//EN
X-WR-TIMEZONE:Europe/Zurich
BEGIN:VEVENT
SUMMARY:Beginn Schuljahr 2023/24 (1. Semester)
DTSTART;VALUE=DATE:20230814
DTEND;VALUE=DATE:20230815
DTSTAMP;VALUE=DATE-TIME:20260423T231928Z
UID:e102447e10974b2c8a784a8919d879e7@127.0.0.1:6081
CREATED;VALUE=DATE-TIME:20230423T161550Z
LAST-MODIFIED;VALUE=DATE-TIME:20230423T161844Z
URL:https://gymnasium.ai.ch/nuetzliches/termine/beginn-schuljahr-2023-24-1
 -semester-08-15-uhr-besammlung-der-1-klassen-und-deren-eltern-in-der-mensa
 -spezialprogramm-08-45-uhr-besammlung-der-schuelerschaft-2-6-klassen-im-je
 weiligen-klassenzimmer
END:VEVENT
END:VCALENDAR
