BEGIN:VCALENDAR
VERSION:2.0
PRODID:-//Plone.org//NONSGML plone.app.event//EN
X-WR-TIMEZONE:Europe/Zurich
BEGIN:VEVENT
SUMMARY:Beginn Schuljahr 2024/25 (1. Semester)
DTSTART;VALUE=DATE:20240812
DTEND;VALUE=DATE:20240813
DTSTAMP;VALUE=DATE-TIME:20260423T231816Z
UID:a17d575537c3498895f013a40b0742dc@127.0.0.1:6081
CREATED;VALUE=DATE-TIME:20240419T073017Z
LAST-MODIFIED;VALUE=DATE-TIME:20240419T073107Z
URL:https://gymnasium.ai.ch/nuetzliches/termine/beginn-schuljahr-2024-25-1
 -semester-08-15-uhr-besammlung-der-1-klassen-und-deren-eltern-spezialprogr
 amm
END:VEVENT
END:VCALENDAR
