BEGIN:VCALENDAR
VERSION:2.0
PRODID:-//Plone.org//NONSGML plone.app.event//EN
X-WR-TIMEZONE:Europe/Zurich
BEGIN:VEVENT
SUMMARY:Beginn Studium 1. - 3. Klassen
DTSTART;VALUE=DATE:20220822
DTEND;VALUE=DATE:20220823
DTSTAMP;VALUE=DATE-TIME:20260423T231344Z
UID:06855d793796407d9b996f06d9420897@127.0.0.1:6081
CREATED;VALUE=DATE-TIME:20220711T195025Z
LAST-MODIFIED;VALUE=DATE-TIME:20220711T195036Z
URL:https://gymnasium.ai.ch/nuetzliches/termine/beginn-studium-1-3-klassen
 -1
END:VEVENT
END:VCALENDAR
