BEGIN:VCALENDAR
VERSION:2.0
PRODID:-//Plone.org//NONSGML plone.app.event//EN
X-WR-TIMEZONE:Europe/Zurich
BEGIN:VEVENT
SUMMARY:Beginn Studium 1. - 3. Klassen
DTSTART;VALUE=DATE:20210822
DTEND;VALUE=DATE:20210824
DTSTAMP;VALUE=DATE-TIME:20260424T004254Z
UID:1e941cafe16b4b3899f5faf808a9d7bf@127.0.0.1:10150
CREATED;VALUE=DATE-TIME:20210817T065654Z
LAST-MODIFIED;VALUE=DATE-TIME:20210817T065721Z
URL:https://gymnasium.ai.ch/nuetzliches/termine/beginn-studium-1-3-klassen
END:VEVENT
END:VCALENDAR
