BEGIN:VCALENDAR
VERSION:2.0
PRODID:-//Plone.org//NONSGML plone.app.event//EN
X-WR-TIMEZONE:Europe/Zurich
BEGIN:VEVENT
SUMMARY:Bergtag
DTSTART;VALUE=DATE:20210913
DTEND;VALUE=DATE:20210915
DTSTAMP;VALUE=DATE-TIME:20260424T005258Z
UID:6b4e5980e76c4ee0abcf2f18d7b612cb@127.0.0.1:10150
CREATED;VALUE=DATE-TIME:20210826T062725Z
LAST-MODIFIED;VALUE=DATE-TIME:20210913T074954Z
URL:https://gymnasium.ai.ch/nuetzliches/termine/bergtag-1-moegliches-datum
END:VEVENT
END:VCALENDAR
