BEGIN:VCALENDAR
VERSION:2.0
PRODID:-//Plone.org//NONSGML plone.app.event//EN
X-WR-TIMEZONE:Europe/Zurich
BEGIN:VEVENT
SUMMARY:Bergtag
DTSTART;VALUE=DATE:20200907
DTEND;VALUE=DATE:20200909
DTSTAMP;VALUE=DATE-TIME:20260423T231242Z
UID:f236982d60e04c2fbd0da9b6882111f0@127.0.0.1:10150
CREATED;VALUE=DATE-TIME:20200907T070707Z
LAST-MODIFIED;VALUE=DATE-TIME:20200907T070712Z
URL:https://gymnasium.ai.ch/nuetzliches/termine/bergtag-1
END:VEVENT
END:VCALENDAR
