BEGIN:VCALENDAR
VERSION:2.0
PRODID:-//Plone.org//NONSGML plone.app.event//EN
X-WR-TIMEZONE:Europe/Zurich
BEGIN:VEVENT
SUMMARY:Bergtag
DTSTART;VALUE=DATE:20190826
DTEND;VALUE=DATE:20190828
DTSTAMP;VALUE=DATE-TIME:20260423T231217Z
UID:aa0274a50e114e1a8ead3594fd2bd050@127.0.0.1:10150
CREATED;VALUE=DATE-TIME:20190826T064101Z
LAST-MODIFIED;VALUE=DATE-TIME:20190826T064348Z
URL:https://gymnasium.ai.ch/nuetzliches/termine/bergtag
END:VEVENT
END:VCALENDAR
