BEGIN:VCALENDAR
VERSION:2.0
PRODID:-//Plone.org//NONSGML plone.app.event//EN
X-WR-TIMEZONE:Europe/Zurich
BEGIN:VEVENT
SUMMARY:Berufs- und Studieninformationstag KST: 5. und 6. Gym
DTSTART;VALUE=DATE-TIME:20200213T115000Z
DTEND;VALUE=DATE-TIME:20200213T152000Z
DTSTAMP;VALUE=DATE-TIME:20260424T020554Z
UID:8de0d51be5c84dc39c1ed8c3cf2779f4@127.0.0.1:10150
CREATED;VALUE=DATE-TIME:20191030T141709Z
LAST-MODIFIED;VALUE=DATE-TIME:20191030T141713Z
LOCATION:Kantonsschule Trogen
URL:https://gymnasium.ai.ch/nuetzliches/termine/berufs-und-studieninformat
 ionstag-kst-5-und-6-gym
END:VEVENT
END:VCALENDAR
