BEGIN:VCALENDAR
VERSION:2.0
PRODID:-//Plone.org//NONSGML plone.app.event//EN
X-WR-TIMEZONE:Europe/Zurich
BEGIN:VEVENT
SUMMARY:Besammlung der 1. Klassen und deren Eltern (Spezialprogramm)
DTSTART;VALUE=DATE-TIME:20210816T061500Z
DTEND;VALUE=DATE-TIME:20210816T090000Z
DTSTAMP;VALUE=DATE-TIME:20260423T231535Z
UID:cc0653b313f443a4bab96a10a66282f8@127.0.0.1:10150
CREATED;VALUE=DATE-TIME:20210417T183659Z
LAST-MODIFIED;VALUE=DATE-TIME:20210814T063637Z
URL:https://gymnasium.ai.ch/nuetzliches/termine/besammlung-der-1-klassen-u
 nd-deren-eltern-spezialprogramm
END:VEVENT
END:VCALENDAR
