BEGIN:VCALENDAR
VERSION:2.0
PRODID:-//Plone.org//NONSGML plone.app.event//EN
X-WR-TIMEZONE:Europe/Zurich
BEGIN:VEVENT
SUMMARY:Besuch Session Grosser Rat
DTSTART;VALUE=DATE-TIME:20180205T064000Z
DTEND;VALUE=DATE-TIME:20180205T090500Z
DTSTAMP;VALUE=DATE-TIME:20260423T231430Z
UID:a43030efce5841b081d0803f718d3ccb@127.0.0.1:10150
CREATED;VALUE=DATE-TIME:20180129T085703Z
DESCRIPTION:Besuch Session Grosser Rat AI: 4. Klasse (Vormittag\, 07.40 
 – 10.05 Uhr)
LAST-MODIFIED;VALUE=DATE-TIME:20180129T085754Z
URL:https://gymnasium.ai.ch/nuetzliches/termine/besuch-session-grosser-rat
END:VEVENT
END:VCALENDAR
