BEGIN:VCALENDAR
VERSION:2.0
PRODID:-//Plone.org//NONSGML plone.app.event//EN
X-WR-TIMEZONE:Europe/Zurich
BEGIN:VEVENT
SUMMARY:Besuchstag interessierte Sekundarschülerinnen und Sekundarschüle
 r
DTSTART;TZID=Europe/Zurich;VALUE=DATE-TIME:20231124T103000
DTEND;TZID=Europe/Vienna;VALUE=DATE-TIME:20231124T130000
DTSTAMP;VALUE=DATE-TIME:20260423T231922Z
UID:e2045a4262fd4f48a30c3875158b1fa9@127.0.0.1:6081
CREATED;VALUE=DATE-TIME:20230712T090106Z
LAST-MODIFIED;VALUE=DATE-TIME:20231023T152256Z
URL:https://gymnasium.ai.ch/nuetzliches/termine/besuchstag-interessierte-2
 -sekundarschuelerinnen-und-2-sekundarschueler
END:VEVENT
BEGIN:VTIMEZONE
TZID:Europe/Zurich
X-LIC-LOCATION:Europe/Zurich
BEGIN:STANDARD
DTSTART;VALUE=DATE-TIME:20231029T020000
TZNAME:CET
TZOFFSETFROM:+0200
TZOFFSETTO:+0100
END:STANDARD
END:VTIMEZONE
BEGIN:VTIMEZONE
TZID:Europe/Vienna
X-LIC-LOCATION:Europe/Vienna
BEGIN:STANDARD
DTSTART;VALUE=DATE-TIME:20231029T020000
TZNAME:CET
TZOFFSETFROM:+0200
TZOFFSETTO:+0100
END:STANDARD
END:VTIMEZONE
END:VCALENDAR
