BEGIN:VCALENDAR
VERSION:2.0
PRODID:-//Plone.org//NONSGML plone.app.event//EN
X-WR-TIMEZONE:Europe/Zurich
BEGIN:VEVENT
SUMMARY:Besuchstag interessierte Primarschüler Appenzell
DTSTART;VALUE=DATE-TIME:20181123T084500Z
DTEND;VALUE=DATE-TIME:20181123T120000Z
DTSTAMP;VALUE=DATE-TIME:20260424T004951Z
UID:c114b459d85a41d7b63e56a0f5ff9194@127.0.0.1:10150
CREATED;VALUE=DATE-TIME:20180928T121217Z
LAST-MODIFIED;VALUE=DATE-TIME:20180928T150942Z
URL:https://gymnasium.ai.ch/nuetzliches/termine/besuchstag-interessierte-p
 rimarschueler-appenzell-1
END:VEVENT
END:VCALENDAR
