BEGIN:VCALENDAR
VERSION:2.0
PRODID:-//Plone.org//NONSGML plone.app.event//EN
X-WR-TIMEZONE:Europe/Zurich
BEGIN:VEVENT
SUMMARY:Besuchstag interessierte Primarschüler Appenzell Innerrhoden
DTSTART;VALUE=DATE-TIME:20191122T084500Z
DTEND;VALUE=DATE-TIME:20191122T120000Z
DTSTAMP;VALUE=DATE-TIME:20260423T231804Z
UID:ea33042b7d1a474db5c1a615dcb00c1b@127.0.0.1:10150
CREATED;VALUE=DATE-TIME:20191023T100250Z
LAST-MODIFIED;VALUE=DATE-TIME:20191023T100254Z
URL:https://gymnasium.ai.ch/nuetzliches/termine/besuchstag-interessierte-p
 rimarschueler-appenzell-innerrhoden-1
END:VEVENT
END:VCALENDAR
