BEGIN:VCALENDAR
VERSION:2.0
PRODID:-//Plone.org//NONSGML plone.app.event//EN
X-WR-TIMEZONE:Europe/Zurich
BEGIN:VEVENT
SUMMARY:Besuchstag interessierte Primarschüler Appenzell Innerrhoden
DTSTART;VALUE=DATE-TIME:20201120T084500Z
DTEND;VALUE=DATE-TIME:20201120T104500Z
DTSTAMP;VALUE=DATE-TIME:20260423T231806Z
UID:c20f9e8a5f0d462ba52ff6ef9c39f9e0@127.0.0.1:10150
CREATED;VALUE=DATE-TIME:20200911T142244Z
LAST-MODIFIED;VALUE=DATE-TIME:20201117T145519Z
URL:https://gymnasium.ai.ch/nuetzliches/termine/besuchstag-interessierte-p
 rimarschueler-appenzell-innerrhoden-3
END:VEVENT
END:VCALENDAR
