BEGIN:VCALENDAR
VERSION:2.0
PRODID:-//Plone.org//NONSGML plone.app.event//EN
X-WR-TIMEZONE:Europe/Zurich
BEGIN:VEVENT
SUMMARY:Besuchstag interessierte Primarschüler Appenzell
DTSTART;VALUE=DATE-TIME:20181122T084500Z
DTEND;VALUE=DATE-TIME:20181122T120000Z
DTSTAMP;VALUE=DATE-TIME:20260423T231753Z
UID:0b987329a5494251a0089bb2c36adedf@127.0.0.1:10150
CREATED;VALUE=DATE-TIME:20180928T121113Z
LAST-MODIFIED;VALUE=DATE-TIME:20180928T150942Z
URL:https://gymnasium.ai.ch/nuetzliches/termine/besuchstag-interessierte-p
 rimarschueler-appenzell
END:VEVENT
END:VCALENDAR
