BEGIN:VCALENDAR
VERSION:2.0
PRODID:-//Plone.org//NONSGML plone.app.event//EN
X-WR-TIMEZONE:Europe/Zurich
BEGIN:VEVENT
SUMMARY:Besuchstag interessierte Primarschüler*innen (6. Primarklassen)
DTSTART;VALUE=DATE-TIME:20211125T084500Z
DTEND;VALUE=DATE-TIME:20211125T120000Z
DTSTAMP;VALUE=DATE-TIME:20260424T021127Z
UID:aff96916ba0c474c82cf0bb5dbca8e01@127.0.0.1:10150
CREATED;VALUE=DATE-TIME:20211024T072833Z
LAST-MODIFIED;VALUE=DATE-TIME:20211029T063847Z
URL:https://gymnasium.ai.ch/nuetzliches/termine/besuchstag-interessierte-p
 rimarschueler-innen-appenzell-innerrhoden
END:VEVENT
END:VCALENDAR
