BEGIN:VCALENDAR
VERSION:2.0
PRODID:-//Plone.org//NONSGML plone.app.event//EN
X-WR-TIMEZONE:Europe/Zurich
BEGIN:VEVENT
SUMMARY:Besuchstag interessierte PrimarschülerInnen (6. Primarschule)
DTSTART;TZID=Europe/Zurich;VALUE=DATE-TIME:20251120T093000
DTEND;TZID=Europe/Zurich;VALUE=DATE-TIME:20251120T130000
DTSTAMP;VALUE=DATE-TIME:20260423T231823Z
UID:41f8f87f3905418dbb0f355de6260630@127.0.0.1:6081
CREATED;VALUE=DATE-TIME:20250719T195735Z
LAST-MODIFIED;VALUE=DATE-TIME:20250719T213854Z
URL:https://gymnasium.ai.ch/nuetzliches/termine/besuchstag-interessierte-p
 rimarschuelerinnen-6-klasse-1
END:VEVENT
BEGIN:VTIMEZONE
TZID:Europe/Zurich
X-LIC-LOCATION:Europe/Zurich
BEGIN:STANDARD
DTSTART;VALUE=DATE-TIME:20251026T020000
TZNAME:CET
TZOFFSETFROM:+0200
TZOFFSETTO:+0100
END:STANDARD
END:VTIMEZONE
END:VCALENDAR
