BEGIN:VCALENDAR
VERSION:2.0
PRODID:-//Plone.org//NONSGML plone.app.event//EN
X-WR-TIMEZONE:Europe/Zurich
BEGIN:VEVENT
SUMMARY:Besuchstag interessierte PrimarschülerInnen (6. Klasse)
DTSTART;TZID=Europe/Zurich;VALUE=DATE-TIME:20241122T093000
DTEND;TZID=Europe/Zurich;VALUE=DATE-TIME:20241122T130000
DTSTAMP;VALUE=DATE-TIME:20260423T231829Z
UID:341fce720d124ac68c6adc99c40c79a3@127.0.0.1:6081
CREATED;VALUE=DATE-TIME:20240703T200604Z
LAST-MODIFIED;VALUE=DATE-TIME:20240703T200611Z
URL:https://gymnasium.ai.ch/nuetzliches/termine/besuchstag-interessierte-p
 rimarschuelerinnen-6-klasse
END:VEVENT
BEGIN:VTIMEZONE
TZID:Europe/Zurich
X-LIC-LOCATION:Europe/Zurich
BEGIN:STANDARD
DTSTART;VALUE=DATE-TIME:20241027T020000
TZNAME:CET
TZOFFSETFROM:+0200
TZOFFSETTO:+0100
END:STANDARD
END:VTIMEZONE
END:VCALENDAR
