BEGIN:VCALENDAR
VERSION:2.0
PRODID:-//Plone.org//NONSGML plone.app.event//EN
X-WR-TIMEZONE:Europe/Zurich
BEGIN:VEVENT
SUMMARY:Besuchstag interessierte Primarschülerinnen und Primarschüler 6.
  Klassen
DTSTART;TZID=Europe/Zurich;VALUE=DATE-TIME:20231124T090000
DTEND;TZID=Europe/Vienna;VALUE=DATE-TIME:20231124T130000
DTSTAMP;VALUE=DATE-TIME:20260423T231816Z
UID:aba2e778f9cc417eba6cf01db2a7383b@127.0.0.1:6081
CREATED;VALUE=DATE-TIME:20230712T085837Z
LAST-MODIFIED;VALUE=DATE-TIME:20231023T151835Z
URL:https://gymnasium.ai.ch/nuetzliches/termine/besuchstag-interessierte-p
 rimarschuelerinnen-und-primarschueler-6-klassen
END:VEVENT
BEGIN:VTIMEZONE
TZID:Europe/Zurich
X-LIC-LOCATION:Europe/Zurich
BEGIN:STANDARD
DTSTART;VALUE=DATE-TIME:20231029T020000
TZNAME:CET
TZOFFSETFROM:+0200
TZOFFSETTO:+0100
END:STANDARD
END:VTIMEZONE
BEGIN:VTIMEZONE
TZID:Europe/Vienna
X-LIC-LOCATION:Europe/Vienna
BEGIN:STANDARD
DTSTART;VALUE=DATE-TIME:20231029T020000
TZNAME:CET
TZOFFSETFROM:+0200
TZOFFSETTO:+0100
END:STANDARD
END:VTIMEZONE
END:VCALENDAR
