BEGIN:VCALENDAR
VERSION:2.0
PRODID:-//Plone.org//NONSGML plone.app.event//EN
X-WR-TIMEZONE:Europe/Zurich
BEGIN:VEVENT
SUMMARY:Besuchstag interessierte Primarschülerinnen und Primarschüler
DTSTART;TZID=Europe/Vienna;VALUE=DATE-TIME:20221124T093000
DTEND;TZID=Europe/Vienna;VALUE=DATE-TIME:20221124T130000
DTSTAMP;VALUE=DATE-TIME:20260423T231806Z
UID:5331426a4a254426a8a3d03d4503ee66@127.0.0.1:6081
CREATED;VALUE=DATE-TIME:20220711T202437Z
LAST-MODIFIED;VALUE=DATE-TIME:20221007T085416Z
URL:https://gymnasium.ai.ch/nuetzliches/termine/besuchstag-interessierte-p
 rimarschuelerinnen-und-primarschueler
END:VEVENT
BEGIN:VTIMEZONE
TZID:Europe/Vienna
X-LIC-LOCATION:Europe/Vienna
BEGIN:STANDARD
DTSTART;VALUE=DATE-TIME:20221030T020000
TZNAME:CET
TZOFFSETFROM:+0200
TZOFFSETTO:+0100
END:STANDARD
END:VTIMEZONE
END:VCALENDAR
