BEGIN:VCALENDAR
VERSION:2.0
PRODID:-//Plone.org//NONSGML plone.app.event//EN
X-WR-TIMEZONE:Europe/Zurich
BEGIN:VEVENT
SUMMARY:Besuchstag interessierte Sekundarschüler
DTSTART;VALUE=DATE-TIME:20201120T093000Z
DTEND;VALUE=DATE-TIME:20201120T111500Z
DTSTAMP;VALUE=DATE-TIME:20260423T231756Z
UID:9e3bfd6bcbe6479c9510651b0cdecc94@127.0.0.1:10150
CREATED;VALUE=DATE-TIME:20200911T142419Z
LAST-MODIFIED;VALUE=DATE-TIME:20201117T145607Z
URL:https://gymnasium.ai.ch/nuetzliches/termine/besuchstag-interessierte-s
 ekundarschueler-2
END:VEVENT
END:VCALENDAR
