BEGIN:VCALENDAR
VERSION:2.0
PRODID:-//Plone.org//NONSGML plone.app.event//EN
X-WR-TIMEZONE:Europe/Zurich
BEGIN:VEVENT
SUMMARY:Besuchstag interessierte Sekundarschüler*innen
DTSTART;VALUE=DATE-TIME:20211126T093000Z
DTEND;VALUE=DATE-TIME:20211126T120000Z
DTSTAMP;VALUE=DATE-TIME:20260423T231827Z
UID:106299528c094ef196ab2765f2bf7820@127.0.0.1:10150
CREATED;VALUE=DATE-TIME:20211024T073239Z
LAST-MODIFIED;VALUE=DATE-TIME:20211024T073244Z
URL:https://gymnasium.ai.ch/nuetzliches/termine/besuchstag-interessierte-s
 ekundarschueler-innen
END:VEVENT
END:VCALENDAR
