BEGIN:VCALENDAR
VERSION:2.0
PRODID:-//Plone.org//NONSGML plone.app.event//EN
X-WR-TIMEZONE:Europe/Zurich
BEGIN:VEVENT
SUMMARY:Besuchstag interessierte Sekundarschüler
DTSTART;VALUE=DATE-TIME:20181123T093000Z
DTEND;VALUE=DATE-TIME:20181123T120000Z
DTSTAMP;VALUE=DATE-TIME:20260423T231801Z
UID:25af961a0a1d4c7bb9926dd821368098@127.0.0.1:10150
CREATED;VALUE=DATE-TIME:20180928T121336Z
LAST-MODIFIED;VALUE=DATE-TIME:20180928T150942Z
URL:https://gymnasium.ai.ch/nuetzliches/termine/besuchstag-interessierte-s
 ekundarschueler
END:VEVENT
END:VCALENDAR
