BEGIN:VCALENDAR
VERSION:2.0
PRODID:-//Plone.org//NONSGML plone.app.event//EN
X-WR-TIMEZONE:Europe/Zurich
BEGIN:VEVENT
SUMMARY:Besuchstag interessierte SekundarschülerInnen (2. und 3. Sekundar
 klassen)
DTSTART;TZID=Europe/Zurich;VALUE=DATE-TIME:20241122T103000
DTEND;TZID=Europe/Zurich;VALUE=DATE-TIME:20241122T130000
DTSTAMP;VALUE=DATE-TIME:20260423T231816Z
UID:7d110a3f11504defa0b88893f480080d@127.0.0.1:6081
CREATED;VALUE=DATE-TIME:20240703T200913Z
LAST-MODIFIED;VALUE=DATE-TIME:20241023T150641Z
URL:https://gymnasium.ai.ch/nuetzliches/termine/besuchstag-interessierte-s
 ekundarschuelerinnen-2-und-3-sekundarklassen
END:VEVENT
BEGIN:VTIMEZONE
TZID:Europe/Zurich
X-LIC-LOCATION:Europe/Zurich
BEGIN:STANDARD
DTSTART;VALUE=DATE-TIME:20241027T020000
TZNAME:CET
TZOFFSETFROM:+0200
TZOFFSETTO:+0100
END:STANDARD
END:VTIMEZONE
END:VCALENDAR
