BEGIN:VCALENDAR
VERSION:2.0
PRODID:-//Plone.org//NONSGML plone.app.event//EN
X-WR-TIMEZONE:Europe/Zurich
BEGIN:VEVENT
SUMMARY:Besuchstag interessierte SekundarschülerInnen (2. und 3. Sekundar
 schule)
DTSTART;TZID=Europe/Zurich;VALUE=DATE-TIME:20251121T103000
DTEND;TZID=Europe/Zurich;VALUE=DATE-TIME:20251121T130000
DTSTAMP;VALUE=DATE-TIME:20260423T231921Z
UID:a264d0a4fec94590b6dfd69587b94929@127.0.0.1:6081
CREATED;VALUE=DATE-TIME:20250719T200536Z
LAST-MODIFIED;VALUE=DATE-TIME:20250719T200719Z
URL:https://gymnasium.ai.ch/nuetzliches/termine/besuchstag-interessierte-s
 ekundarschuelerinneninnen-2-und-3-sekundarklassen
END:VEVENT
BEGIN:VTIMEZONE
TZID:Europe/Zurich
X-LIC-LOCATION:Europe/Zurich
BEGIN:STANDARD
DTSTART;VALUE=DATE-TIME:20251026T020000
TZNAME:CET
TZOFFSETFROM:+0200
TZOFFSETTO:+0100
END:STANDARD
END:VTIMEZONE
END:VCALENDAR
