BEGIN:VCALENDAR
VERSION:2.0
PRODID:-//Plone.org//NONSGML plone.app.event//EN
X-WR-TIMEZONE:Europe/Zurich
BEGIN:VEVENT
SUMMARY:Cambridge Prüfungen am Gymnasium St. Antonius: First (FCE) und Ad
 vanced (CAE)
DTSTART;VALUE=DATE:20220617
DTEND;VALUE=DATE:20220619
DTSTAMP;VALUE=DATE-TIME:20260423T231807Z
UID:01a8ac79953e4adb863896894fb462c5@127.0.0.1:10150
CREATED;VALUE=DATE-TIME:20220608T142152Z
LAST-MODIFIED;VALUE=DATE-TIME:20220608T142200Z
URL:https://gymnasium.ai.ch/nuetzliches/termine/cambridge-pruefungen-am-gy
 mnasium-st-antonius-first-fce-und-advanced-cae
END:VEVENT
END:VCALENDAR
